Package: animalcules Version: 1.23.0 Command: /Library/Frameworks/R.framework/Resources/bin/R CMD INSTALL animalcules StartedAt: 2025-02-05 15:36:03 -0500 (Wed, 05 Feb 2025) EndedAt: 2025-02-05 15:36:45 -0500 (Wed, 05 Feb 2025) EllapsedTime: 41.9 seconds RetCode: 0 Status: OK