Package: animalcules Version: 1.23.0 Command: /home/biocbuild/bbs-3.21-bioc/R/bin/R CMD build --keep-empty-dirs --no-resave-data animalcules StartedAt: 2025-02-05 16:07:44 -0500 (Wed, 05 Feb 2025) EndedAt: 2025-02-05 16:08:45 -0500 (Wed, 05 Feb 2025) EllapsedTime: 61.1 seconds RetCode: 0 Status: OK PackageFile: animalcules_1.23.0.tar.gz PackageFileSize: 3.331 MiB