Package: animalcules Version: 1.23.0 Command: /home/biocbuild/bbs-3.21-bioc/R/bin/R CMD INSTALL animalcules StartedAt: 2025-02-05 15:21:20 -0500 (Wed, 05 Feb 2025) EndedAt: 2025-02-05 15:21:51 -0500 (Wed, 05 Feb 2025) EllapsedTime: 31.7 seconds RetCode: 0 Status: OK