Package: animalcules Version: 1.23.0 Command: rm -rf animalcules.buildbin-libdir && mkdir animalcules.buildbin-libdir && E:\biocbuild\bbs-3.21-bioc\R\bin\R.exe CMD INSTALL --build --library=animalcules.buildbin-libdir animalcules_1.23.0.tar.gz StartedAt: 2025-02-06 07:29:38 -0500 (Thu, 06 Feb 2025) EndedAt: 2025-02-06 07:30:50 -0500 (Thu, 06 Feb 2025) EllapsedTime: 71.6 seconds RetCode: 0 Status: OK PackageFile: animalcules_1.23.0.zip PackageFileSize: 3.331 MiB