Package: animalcules Version: 1.23.0 Command: chmod a+r animalcules -R && E:\biocbuild\bbs-3.21-bioc\R\bin\R.exe CMD build --keep-empty-dirs --no-resave-data animalcules StartedAt: 2025-02-05 17:16:24 -0500 (Wed, 05 Feb 2025) EndedAt: 2025-02-05 17:18:17 -0500 (Wed, 05 Feb 2025) EllapsedTime: 113.0 seconds RetCode: 0 Status: OK PackageFile: animalcules_1.23.0.tar.gz PackageFileSize: 3.162 MiB