Package: animalcules Version: 1.23.0 Command: E:\biocbuild\bbs-3.21-bioc\R\bin\R.exe CMD check --no-multiarch --install=check:animalcules.install-out.txt --library=E:\biocbuild\bbs-3.21-bioc\R\library --no-vignettes --timings animalcules_1.23.0.tar.gz StartedAt: 2025-02-05 23:05:24 -0500 (Wed, 05 Feb 2025) EndedAt: 2025-02-05 23:10:57 -0500 (Wed, 05 Feb 2025) EllapsedTime: 333.0 seconds RetCode: 0 Status: OK CheckDir: animalcules.Rcheck Warnings: 0