Package: annotate Version: 1.85.0 Command: /home/biocbuild/R/R/bin/R CMD INSTALL annotate StartedAt: 2025-01-29 19:50:55 -0000 (Wed, 29 Jan 2025) EndedAt: 2025-01-29 19:51:17 -0000 (Wed, 29 Jan 2025) EllapsedTime: 21.9 seconds RetCode: 0 Status: OK