Package: annotate Version: 1.85.0 Command: /Library/Frameworks/R.framework/Resources/bin/R CMD INSTALL annotate StartedAt: 2025-02-12 15:14:58 -0500 (Wed, 12 Feb 2025) EndedAt: 2025-02-12 15:15:21 -0500 (Wed, 12 Feb 2025) EllapsedTime: 23.0 seconds RetCode: 0 Status: OK