Package: annotate Version: 1.85.0 Command: /home/biocbuild/bbs-3.21-bioc/R/bin/R CMD INSTALL annotate StartedAt: 2025-02-09 15:26:54 -0500 (Sun, 09 Feb 2025) EndedAt: 2025-02-09 15:27:09 -0500 (Sun, 09 Feb 2025) EllapsedTime: 15.5 seconds RetCode: 0 Status: OK