Package: annotate Version: 1.85.0 Command: rm -rf annotate.buildbin-libdir && mkdir annotate.buildbin-libdir && E:\biocbuild\bbs-3.21-bioc\R\bin\R.exe CMD INSTALL --build --library=annotate.buildbin-libdir annotate_1.85.0.tar.gz StartedAt: 2025-02-10 07:12:16 -0500 (Mon, 10 Feb 2025) EndedAt: 2025-02-10 07:13:29 -0500 (Mon, 10 Feb 2025) EllapsedTime: 73.3 seconds RetCode: 0 Status: OK PackageFile: annotate_1.85.0.zip PackageFileSize: 1.994 MiB