Package: annotate Version: 1.85.0 Command: chmod a+r annotate -R && E:\biocbuild\bbs-3.21-bioc\R\bin\R.exe CMD build --keep-empty-dirs --no-resave-data annotate StartedAt: 2025-02-09 17:12:56 -0500 (Sun, 09 Feb 2025) EndedAt: 2025-02-09 17:15:28 -0500 (Sun, 09 Feb 2025) EllapsedTime: 152.8 seconds RetCode: 0 Status: OK PackageFile: annotate_1.85.0.tar.gz PackageFileSize: 1.696 MiB