Package: annotate Version: 1.85.0 Command: E:\biocbuild\bbs-3.21-bioc\R\bin\R.exe CMD INSTALL annotate StartedAt: 2025-02-09 15:45:35 -0500 (Sun, 09 Feb 2025) EndedAt: 2025-02-09 15:46:50 -0500 (Sun, 09 Feb 2025) EllapsedTime: 75.1 seconds RetCode: 0 Status: OK