Package: annotationTools Version: 1.81.0 Command: /home/biocbuild/R/R/bin/R CMD INSTALL annotationTools StartedAt: 2025-01-29 19:33:27 -0000 (Wed, 29 Jan 2025) EndedAt: 2025-01-29 19:33:57 -0000 (Wed, 29 Jan 2025) EllapsedTime: 30.5 seconds RetCode: 0 Status: OK