Package: annotationTools Version: 1.81.0 Command: /Library/Frameworks/R.framework/Resources/bin/R CMD build --keep-empty-dirs --no-resave-data annotationTools StartedAt: 2025-02-09 15:53:57 -0500 (Sun, 09 Feb 2025) EndedAt: 2025-02-09 15:54:12 -0500 (Sun, 09 Feb 2025) EllapsedTime: 14.9 seconds RetCode: 0 Status: OK PackageFile: annotationTools_1.81.0.tar.gz PackageFileSize: 333.8 KiB