Package: annotationTools Version: 1.81.0 Command: /Library/Frameworks/R.framework/Resources/bin/R CMD INSTALL annotationTools StartedAt: 2025-02-12 15:06:11 -0500 (Wed, 12 Feb 2025) EndedAt: 2025-02-12 15:06:44 -0500 (Wed, 12 Feb 2025) EllapsedTime: 32.3 seconds RetCode: 0 Status: OK