Package: annotationTools Version: 1.81.0 Command: /home/biocbuild/bbs-3.21-bioc/R/bin/R CMD build --keep-empty-dirs --no-resave-data annotationTools StartedAt: 2025-02-12 16:09:14 -0500 (Wed, 12 Feb 2025) EndedAt: 2025-02-12 16:09:23 -0500 (Wed, 12 Feb 2025) EllapsedTime: 9.0 seconds RetCode: 0 Status: OK PackageFile: annotationTools_1.81.0.tar.gz PackageFileSize: 333.7 KiB