Package: annotationTools Version: 1.81.0 Command: /home/biocbuild/bbs-3.21-bioc/R/bin/R CMD INSTALL annotationTools StartedAt: 2025-02-09 15:12:25 -0500 (Sun, 09 Feb 2025) EndedAt: 2025-02-09 15:12:28 -0500 (Sun, 09 Feb 2025) EllapsedTime: 3.4 seconds RetCode: 0 Status: OK