Package: annotationTools Version: 1.81.0 Command: rm -rf annotationTools.buildbin-libdir && mkdir annotationTools.buildbin-libdir && E:\biocbuild\bbs-3.21-bioc\R\bin\R.exe CMD INSTALL --build --library=annotationTools.buildbin-libdir annotationTools_1.81.0.tar.gz StartedAt: 2025-02-10 07:12:26 -0500 (Mon, 10 Feb 2025) EndedAt: 2025-02-10 07:12:49 -0500 (Mon, 10 Feb 2025) EllapsedTime: 23.5 seconds RetCode: 0 Status: OK PackageFile: annotationTools_1.81.0.zip PackageFileSize: 398.7 KiB