Package: annotationTools Version: 1.81.0 Command: chmod a+r annotationTools -R && E:\biocbuild\bbs-3.21-bioc\R\bin\R.exe CMD build --keep-empty-dirs --no-resave-data annotationTools StartedAt: 2025-02-09 17:13:44 -0500 (Sun, 09 Feb 2025) EndedAt: 2025-02-09 17:14:32 -0500 (Sun, 09 Feb 2025) EllapsedTime: 47.6 seconds RetCode: 0 Status: OK PackageFile: annotationTools_1.81.0.tar.gz PackageFileSize: 333.9 KiB