Package: annotationTools Version: 1.81.0 Command: E:\biocbuild\bbs-3.21-bioc\R\bin\R.exe CMD check --no-multiarch --install=check:annotationTools.install-out.txt --library=E:\biocbuild\bbs-3.21-bioc\R\library --no-vignettes --timings annotationTools_1.81.0.tar.gz StartedAt: 2025-02-12 22:45:08 -0500 (Wed, 12 Feb 2025) EndedAt: 2025-02-12 22:45:46 -0500 (Wed, 12 Feb 2025) EllapsedTime: 38.2 seconds RetCode: 0 Status: OK CheckDir: annotationTools.Rcheck Warnings: 0