Package: annotationTools Version: 1.81.0 Command: E:\biocbuild\bbs-3.21-bioc\R\bin\R.exe CMD INSTALL annotationTools StartedAt: 2025-02-09 15:24:38 -0500 (Sun, 09 Feb 2025) EndedAt: 2025-02-09 15:25:20 -0500 (Sun, 09 Feb 2025) EllapsedTime: 42.5 seconds RetCode: 0 Status: OK