Package: annotatr Version: 1.33.0 Command: rm -rf annotatr.buildbin-libdir && mkdir annotatr.buildbin-libdir && /Users/biocbuild/BBS/utils/build-universal.sh annotatr_1.33.0.tar.gz /Library/Frameworks/R.framework/Resources/bin/R annotatr.buildbin-libdir StartedAt: 2025-02-09 22:05:52 -0500 (Sun, 09 Feb 2025) EndedAt: 2025-02-09 22:06:11 -0500 (Sun, 09 Feb 2025) EllapsedTime: 18.5 seconds RetCode: 0 Status: OK PackageFile: annotatr_1.33.0.tgz PackageFileSize: 2.673 MiB