Package: annotatr Version: 1.33.0 Command: /Library/Frameworks/R.framework/Resources/bin/R CMD INSTALL annotatr StartedAt: 2025-02-09 15:11:27 -0500 (Sun, 09 Feb 2025) EndedAt: 2025-02-09 15:11:44 -0500 (Sun, 09 Feb 2025) EllapsedTime: 17.5 seconds RetCode: 0 Status: OK