Package: annotatr Version: 1.33.0 Command: /home/biocbuild/bbs-3.21-bioc/R/bin/R CMD build --keep-empty-dirs --no-resave-data annotatr StartedAt: 2025-02-09 16:09:08 -0500 (Sun, 09 Feb 2025) EndedAt: 2025-02-09 16:11:01 -0500 (Sun, 09 Feb 2025) EllapsedTime: 113.2 seconds RetCode: 0 Status: OK PackageFile: annotatr_1.33.0.tar.gz PackageFileSize: 2.644 MiB