Package: annotatr Version: 1.33.0 Command: /home/biocbuild/bbs-3.21-bioc/R/bin/R CMD check --install=check:annotatr.install-out.txt --library=/home/biocbuild/bbs-3.21-bioc/R/site-library --timings annotatr_1.33.0.tar.gz StartedAt: 2025-02-03 20:09:11 -0500 (Mon, 03 Feb 2025) EndedAt: 2025-02-03 20:16:02 -0500 (Mon, 03 Feb 2025) EllapsedTime: 410.8 seconds RetCode: 0 Status: OK CheckDir: annotatr.Rcheck Warnings: 0