Package: annotatr Version: 1.33.0 Command: /home/biocbuild/bbs-3.21-bioc/R/bin/R CMD INSTALL annotatr StartedAt: 2025-02-03 15:49:47 -0500 (Mon, 03 Feb 2025) EndedAt: 2025-02-03 15:50:27 -0500 (Mon, 03 Feb 2025) EllapsedTime: 40.8 seconds RetCode: 0 Status: OK