Package: annotatr Version: 1.33.0 Command: chmod a+r annotatr -R && E:\biocbuild\bbs-3.21-bioc\R\bin\R.exe CMD build --keep-empty-dirs --no-resave-data annotatr StartedAt: 2025-02-09 17:13:48 -0500 (Sun, 09 Feb 2025) EndedAt: 2025-02-09 17:16:30 -0500 (Sun, 09 Feb 2025) EllapsedTime: 161.7 seconds RetCode: 0 Status: OK PackageFile: annotatr_1.33.0.tar.gz PackageFileSize: 1.992 MiB