Package: anota2seq Version: 1.29.0 Maintainer: Christian Oertlin , Ola Larsson MaintainerEmail: ola.larsson at ki.se git_url: https://git.bioconductor.org/packages/anota2seq git_branch: devel git_last_commit: 9a745aa git_last_commit_date: 2024-10-29 10:23:03 -0500 (Tue, 29 Oct 2024)