Package: anota2seq Version: 1.29.0 Command: rm -rf anota2seq.buildbin-libdir && mkdir anota2seq.buildbin-libdir && /Users/biocbuild/BBS/utils/build-universal.sh anota2seq_1.29.0.tar.gz /Library/Frameworks/R.framework/Resources/bin/R anota2seq.buildbin-libdir StartedAt: 2025-02-09 22:05:53 -0500 (Sun, 09 Feb 2025) EndedAt: 2025-02-09 22:06:07 -0500 (Sun, 09 Feb 2025) EllapsedTime: 13.4 seconds RetCode: 0 Status: OK PackageFile: anota2seq_1.29.0.tgz PackageFileSize: 1.501 MiB