Package: anota2seq Version: 1.29.0 Command: /Library/Frameworks/R.framework/Resources/bin/R CMD check --install=check:anota2seq.install-out.txt --library=/Library/Frameworks/R.framework/Resources/library --no-vignettes --timings anota2seq_1.29.0.tar.gz StartedAt: 2025-02-09 18:03:31 -0500 (Sun, 09 Feb 2025) EndedAt: 2025-02-09 18:04:58 -0500 (Sun, 09 Feb 2025) EllapsedTime: 87.2 seconds RetCode: 0 Status: OK CheckDir: anota2seq.Rcheck Warnings: 0