Package: anota2seq Version: 1.29.0 Command: /Library/Frameworks/R.framework/Resources/bin/R CMD INSTALL anota2seq StartedAt: 2025-02-09 15:22:08 -0500 (Sun, 09 Feb 2025) EndedAt: 2025-02-09 15:22:20 -0500 (Sun, 09 Feb 2025) EllapsedTime: 11.6 seconds RetCode: 0 Status: OK