Package: anota2seq Version: 1.29.0 Command: /home/biocbuild/R/R/bin/R CMD build --keep-empty-dirs --no-resave-data anota2seq StartedAt: 2025-01-29 20:50:39 -0000 (Wed, 29 Jan 2025) EndedAt: 2025-01-29 20:54:20 -0000 (Wed, 29 Jan 2025) EllapsedTime: 221.1 seconds RetCode: 0 Status: OK PackageFile: anota2seq_1.29.0.tar.gz PackageFileSize: 998 KiB