Package: anota2seq Version: 1.29.0 Command: /Library/Frameworks/R.framework/Resources/bin/R CMD build --keep-empty-dirs --no-resave-data anota2seq StartedAt: 2025-02-12 15:52:47 -0500 (Wed, 12 Feb 2025) EndedAt: 2025-02-12 15:55:31 -0500 (Wed, 12 Feb 2025) EllapsedTime: 163.6 seconds RetCode: 0 Status: OK PackageFile: anota2seq_1.29.0.tar.gz PackageFileSize: 973 KiB