Package: anota2seq Version: 1.29.0 Command: /home/biocbuild/bbs-3.21-bioc/R/bin/R CMD check --install=check:anota2seq.install-out.txt --library=/home/biocbuild/bbs-3.21-bioc/R/site-library --timings anota2seq_1.29.0.tar.gz StartedAt: 2025-02-09 20:01:31 -0500 (Sun, 09 Feb 2025) EndedAt: 2025-02-09 20:07:32 -0500 (Sun, 09 Feb 2025) EllapsedTime: 360.7 seconds RetCode: 0 Status: WARNINGS CheckDir: anota2seq.Rcheck Warnings: 1