Package: anota2seq Version: 1.29.0 Command: /home/biocbuild/bbs-3.21-bioc/R/bin/R CMD INSTALL anota2seq StartedAt: 2025-02-09 15:20:40 -0500 (Sun, 09 Feb 2025) EndedAt: 2025-02-09 15:21:11 -0500 (Sun, 09 Feb 2025) EllapsedTime: 30.5 seconds RetCode: 0 Status: OK