Package: anota2seq Version: 1.29.0 Command: chmod a+r anota2seq -R && E:\biocbuild\bbs-3.21-bioc\R\bin\R.exe CMD build --keep-empty-dirs --no-resave-data anota2seq StartedAt: 2025-02-09 17:13:59 -0500 (Sun, 09 Feb 2025) EndedAt: 2025-02-09 17:18:04 -0500 (Sun, 09 Feb 2025) EllapsedTime: 244.6 seconds RetCode: 0 Status: OK PackageFile: anota2seq_1.29.0.tar.gz PackageFileSize: 1.007 MiB