Package: anota2seq Version: 1.29.0 Command: E:\biocbuild\bbs-3.21-bioc\R\bin\R.exe CMD check --no-multiarch --install=check:anota2seq.install-out.txt --library=E:\biocbuild\bbs-3.21-bioc\R\library --no-vignettes --timings anota2seq_1.29.0.tar.gz StartedAt: 2025-02-09 22:37:26 -0500 (Sun, 09 Feb 2025) EndedAt: 2025-02-09 22:42:35 -0500 (Sun, 09 Feb 2025) EllapsedTime: 308.5 seconds RetCode: 0 Status: OK CheckDir: anota2seq.Rcheck Warnings: 0