Package: antiProfiles Version: 1.47.0 Command: /Library/Frameworks/R.framework/Resources/bin/R CMD build --keep-empty-dirs --no-resave-data antiProfiles StartedAt: 2025-02-09 15:33:15 -0500 (Sun, 09 Feb 2025) EndedAt: 2025-02-09 15:33:20 -0500 (Sun, 09 Feb 2025) EllapsedTime: 5.1 seconds RetCode: 0 Status: OK PackageFile: antiProfiles_1.47.0.tar.gz PackageFileSize: 110.7 KiB