Package: antiProfiles Version: 1.47.0 Command: /home/biocbuild/R/R/bin/R CMD build --keep-empty-dirs --no-resave-data antiProfiles StartedAt: 2025-01-29 20:50:40 -0000 (Wed, 29 Jan 2025) EndedAt: 2025-01-29 20:50:48 -0000 (Wed, 29 Jan 2025) EllapsedTime: 8.0 seconds RetCode: 0 Status: OK PackageFile: antiProfiles_1.47.0.tar.gz PackageFileSize: 103.8 KiB