Package: antiProfiles Version: 1.47.0 Command: /home/biocbuild/bbs-3.21-bioc/R/bin/R CMD build --keep-empty-dirs --no-resave-data antiProfiles StartedAt: 2025-02-09 16:09:13 -0500 (Sun, 09 Feb 2025) EndedAt: 2025-02-09 16:09:20 -0500 (Sun, 09 Feb 2025) EllapsedTime: 7.0 seconds RetCode: 0 Status: OK PackageFile: antiProfiles_1.47.0.tar.gz PackageFileSize: 110.6 KiB