Package: antiProfiles Version: 1.47.0 Command: /home/biocbuild/bbs-3.21-bioc/R/bin/R CMD INSTALL antiProfiles StartedAt: 2025-02-09 15:04:33 -0500 (Sun, 09 Feb 2025) EndedAt: 2025-02-09 15:04:47 -0500 (Sun, 09 Feb 2025) EllapsedTime: 14.2 seconds RetCode: 0 Status: OK