Package: antiProfiles Version: 1.47.0 Command: chmod a+r antiProfiles -R && E:\biocbuild\bbs-3.21-bioc\R\bin\R.exe CMD build --keep-empty-dirs --no-resave-data antiProfiles StartedAt: 2025-02-09 17:14:10 -0500 (Sun, 09 Feb 2025) EndedAt: 2025-02-09 17:15:18 -0500 (Sun, 09 Feb 2025) EllapsedTime: 68.3 seconds RetCode: 0 Status: OK PackageFile: antiProfiles_1.47.0.tar.gz PackageFileSize: 110.3 KiB