Package: antiProfiles Version: 1.47.0 Command: E:\biocbuild\bbs-3.21-bioc\R\bin\R.exe CMD check --no-multiarch --install=check:antiProfiles.install-out.txt --library=E:\biocbuild\bbs-3.21-bioc\R\library --no-vignettes --timings antiProfiles_1.47.0.tar.gz StartedAt: 2025-02-09 22:37:42 -0500 (Sun, 09 Feb 2025) EndedAt: 2025-02-09 22:38:25 -0500 (Sun, 09 Feb 2025) EllapsedTime: 43.0 seconds RetCode: 0 Status: OK CheckDir: antiProfiles.Rcheck Warnings: 0