Package: antiProfiles Version: 1.47.0 Command: E:\biocbuild\bbs-3.21-bioc\R\bin\R.exe CMD INSTALL antiProfiles StartedAt: 2025-02-09 15:22:22 -0500 (Sun, 09 Feb 2025) EndedAt: 2025-02-09 15:22:50 -0500 (Sun, 09 Feb 2025) EllapsedTime: 28.3 seconds RetCode: 0 Status: OK