Package: apComplex Version: 2.73.0 Command: rm -rf apComplex.buildbin-libdir && mkdir apComplex.buildbin-libdir && /Users/biocbuild/BBS/utils/build-universal.sh apComplex_2.73.0.tar.gz /Library/Frameworks/R.framework/Resources/bin/R apComplex.buildbin-libdir StartedAt: 2025-02-09 22:05:57 -0500 (Sun, 09 Feb 2025) EndedAt: 2025-02-09 22:06:03 -0500 (Sun, 09 Feb 2025) EllapsedTime: 6.2 seconds RetCode: 0 Status: OK PackageFile: apComplex_2.73.0.tgz PackageFileSize: 687.2 KiB