Package: apComplex Version: 2.73.0 Command: rm -rf apComplex.buildbin-libdir && mkdir apComplex.buildbin-libdir && /Users/biocbuild/BBS/utils/build-universal.sh apComplex_2.73.0.tar.gz /Library/Frameworks/R.framework/Resources/bin/R apComplex.buildbin-libdir StartedAt: 2025-02-10 00:42:00 -0500 (Mon, 10 Feb 2025) EndedAt: 2025-02-10 00:42:23 -0500 (Mon, 10 Feb 2025) EllapsedTime: 23.3 seconds RetCode: 0 Status: OK PackageFile: apComplex_2.73.0.tgz PackageFileSize: 686.4 KiB