Package: apComplex Version: 2.73.0 Command: /Library/Frameworks/R.framework/Resources/bin/R CMD check --install=check:apComplex.install-out.txt --library=/Library/Frameworks/R.framework/Resources/library --no-vignettes --timings apComplex_2.73.0.tar.gz StartedAt: 2025-02-09 19:05:02 -0500 (Sun, 09 Feb 2025) EndedAt: 2025-02-09 19:07:12 -0500 (Sun, 09 Feb 2025) EllapsedTime: 129.8 seconds RetCode: 0 Status: OK CheckDir: apComplex.Rcheck Warnings: 0