Package: apComplex Version: 2.73.0 Command: chmod a+r apComplex -R && E:\biocbuild\bbs-3.21-bioc\R\bin\R.exe CMD build --keep-empty-dirs --no-resave-data apComplex StartedAt: 2025-02-09 17:15:13 -0500 (Sun, 09 Feb 2025) EndedAt: 2025-02-09 17:15:50 -0500 (Sun, 09 Feb 2025) EllapsedTime: 36.5 seconds RetCode: 0 Status: OK PackageFile: apComplex_2.73.0.tar.gz PackageFileSize: 628.5 KiB