Package: apeglm Version: 1.29.0 Command: rm -rf apeglm.buildbin-libdir && mkdir apeglm.buildbin-libdir && /Users/biocbuild/BBS/utils/build-universal.sh apeglm_1.29.0.tar.gz /Library/Frameworks/R.framework/Resources/bin/R apeglm.buildbin-libdir StartedAt: 2025-02-05 22:10:50 -0500 (Wed, 05 Feb 2025) EndedAt: 2025-02-05 22:11:11 -0500 (Wed, 05 Feb 2025) EllapsedTime: 20.4 seconds RetCode: 0 Status: OK PackageFile: apeglm_1.29.0.tgz PackageFileSize: 1.389 MiB