Package: apeglm Version: 1.29.0 Command: /Library/Frameworks/R.framework/Resources/bin/R CMD INSTALL apeglm StartedAt: 2025-02-05 15:12:13 -0500 (Wed, 05 Feb 2025) EndedAt: 2025-02-05 15:12:31 -0500 (Wed, 05 Feb 2025) EllapsedTime: 18.0 seconds RetCode: 0 Status: OK